BEGIN:VCALENDAR
VERSION:2.0
PRODID:-//wp-events-plugin.com//6.3//EN
TZID:Europe/Rome
X-WR-TIMEZONE:Europe/Rome
BEGIN:VEVENT
UID:0-1619@chiesadimilano.it
DTSTART;TZID=Europe/Rome:20250204T000000
DTEND;TZID=Europe/Rome:20250204T000000
DTSTAMP:20250130T113944Z
URL:https://www.chiesadimilano.it/eventi/fede-ragione-e-immaginazione-nel-
 seicento-il-caso-malebranche
SUMMARY:Fede\, ragione e immaginazione nel seicento. Il caso Malebranche
DESCRIPTION:Martedì 4 febbraio alle ore 18.30 si svolgerà il secondo inco
 ntro sulla filosofia a cura di don Dario Cornati: “Fede\, ragione e imma
 ginazione nel seicento. Il caso Malebranche” in cui si esplorerà la que
 stione filosofica legata alla figura di Nicolas Malebranche\, un important
 e filosofo e teologo francese del XVII secolo.\nIl caso Malebranche si rif
 erisce a una questione filosofica legata alla sua figura. Malebranche è n
 oto per le sue teorie sulla percezione\, la mente e la relazione tra corpo
  e spirito\, ma uno degli aspetti più noti del suo pensiero è la sua con
 cezione del “vedere in Dio” e del rapporto tra le idee e la realtà. I
 n generale\, la sua filosofia si inserisce nell’ambito del razionalismo 
 e\, in particolare\, nell’influenza di Cartesio.\nIngresso libero.
ATTACH;FMTTYPE=image/jpeg:https://www.chiesadimilano.it/wp-content/uploads
 /sites/83/2025/01/Nicolas_Malebranche-e1738237050853.jpg
LOCATION:Fondazione Ambrosianeum\,  Via delle Ore\, 3 \, Milano\, Lombardia
 \, 20122\, Milano\, Italia
GEO:45.462894;9.19256
X-APPLE-STRUCTURED-LOCATION;VALUE=URI;X-ADDRESS= Via delle Ore\, 3 \, Milan
 o\, Lombardia\, 20122\, Milano\, Italia;X-APPLE-RADIUS=100;X-TITLE=Fondazi
 one Ambrosianeum:geo:45.462894,9.19256
END:VEVENT
BEGIN:VTIMEZONE
TZID:Europe/Rome
X-LIC-LOCATION:Europe/Rome
BEGIN:STANDARD
DTSTART:20241027T020000
TZOFFSETFROM:+0200
TZOFFSETTO:+0100
TZNAME:CET
END:STANDARD
END:VTIMEZONE
END:VCALENDAR