BEGIN:VCALENDAR
VERSION:2.0
PRODID:-//wp-events-plugin.com//6.3//EN
TZID:Europe/Rome
X-WR-TIMEZONE:Europe/Rome
BEGIN:VEVENT
UID:0-2665@chiesadimilano.it
DTSTART;TZID=Europe/Rome:20260419T000000
DTEND;TZID=Europe/Rome:20260419T000000
DTSTAMP:20260331T111229Z
URL:https://www.chiesadimilano.it/eventi/fagnano-olona-messa-per-la-festa-
 della-terra-alla-valle-di-ezechiele
SUMMARY:Fagnano Olona\, Messa per la Festa della Terra alla Valle di Ezechi
 ele
DESCRIPTION:Nel giorno della Festa della Terra\, nel frutteto della Valle d
 i Ezechiele a Fagnano Olona sarà celebrata una Messa organizzata e propos
 ta dal Circolo Laudato si' di Busto Arsizio e Gallarate\, nell'ambito del 
 progetto "Su da terra" che si svolge presso un campo dove si raccolgono no
 n solo i frutti ma anche le persone cadute per i propri errori.\nLa Messa 
 sarà presieduta da don David Maria Riboldi\, fondatore della Cooperativa.
 \n\nNota tecnica:\nAl campo si accede da via Amendola\, ma bisogna parcheg
 giare sul lato opposto all'ingresso sterrato: c'è un parcheggio e poi si 
 possono fare due passi. Anche perché all'accesso al campo posti auto prop
 rio non ve n'è...\n\n
ATTACH;FMTTYPE=image/jpeg:https://www.chiesadimilano.it/wp-content/uploads
 /sites/83/2026/03/494526088_18038247989637997_7692596724848147592_n-e17749
 55426225.jpg
LOCATION:La Valle Di Ezechiele Cooperativa Sociale\, Via Colombo Cristoforo
 \, 90\, Bergoro\, Lombardia\, 21054\, Varese\, Italia
GEO:45.67077;8.882006
X-APPLE-STRUCTURED-LOCATION;VALUE=URI;X-ADDRESS=Via Colombo Cristoforo\, 90
 \, Bergoro\, Lombardia\, 21054\, Varese\, Italia;X-APPLE-RADIUS=100;X-TITL
 E=La Valle Di Ezechiele Cooperativa Sociale:geo:45.67077,8.882006
END:VEVENT
BEGIN:VTIMEZONE
TZID:Europe/Rome
X-LIC-LOCATION:Europe/Rome
BEGIN:DAYLIGHT
DTSTART:20260329T030000
TZOFFSETFROM:+0100
TZOFFSETTO:+0200
TZNAME:CEST
END:DAYLIGHT
END:VTIMEZONE
END:VCALENDAR