BEGIN:VCALENDAR
VERSION:2.0
PRODID:-//wp-events-plugin.com//6.3//EN
TZID:Europe/Rome
X-WR-TIMEZONE:Europe/Rome
BEGIN:VEVENT
UID:0-2341@chiesadimilano.it
DTSTART;TZID=Europe/Rome:20251208T000000
DTEND;TZID=Europe/Rome:20251208T000000
DTSTAMP:20251124T140944Z
URL:https://www.chiesadimilano.it/eventi/donne-rom-per-lafrica-aperitivo-n
 ella-sede-milanese-di-santegidio
SUMMARY:Donne Rom per l'Africa: aperitivo nella sede milanese di Sant'Egidi
 o
DESCRIPTION:Alcune donne rom\, che negli anni sono state conosciute dalla c
 omunità di Sant'Egidio in baraccopoli e aiutate\, organizzano un aperitiv
 o/cena con specialità della cucina romani per finanziare il programma Dre
 am di cura dell’Aids in Africa\, in particolare per aiutare il Centro nu
 trizionale di Balaka in Malawi.\nAppuntamento per lunedì 8 dicembre a Mil
 ano\, alle 18\, nella sede di via Olivetani 3.
ATTACH;FMTTYPE=image/jpeg:https://www.chiesadimilano.it/wp-content/uploads
 /sites/83/2025/11/dream-santegidio.jpg
CATEGORIES:In evidenza
LOCATION:Comunità Sant'Egidio\, Via degli Olivetani 3\, Milano\, Italia
X-APPLE-STRUCTURED-LOCATION;VALUE=URI;X-ADDRESS=Via degli Olivetani 3\, Mil
 ano\, Italia;X-APPLE-RADIUS=100;X-TITLE=Comunità Sant'Egidio:geo:0,0
END:VEVENT
BEGIN:VTIMEZONE
TZID:Europe/Rome
X-LIC-LOCATION:Europe/Rome
BEGIN:STANDARD
DTSTART:20251026T020000
TZOFFSETFROM:+0200
TZOFFSETTO:+0100
TZNAME:CET
END:STANDARD
END:VTIMEZONE
END:VCALENDAR