BEGIN:VCALENDAR
VERSION:2.0
PRODID:-//wp-events-plugin.com//6.3//EN
TZID:Europe/Rome
X-WR-TIMEZONE:Europe/Rome
BEGIN:VEVENT
UID:0-2721@chiesadimilano.it
DTSTART;TZID=Europe/Rome:20260424T000000
DTEND;TZID=Europe/Rome:20260424T000000
DTSTAMP:20260422T133839Z
URL:https://www.chiesadimilano.it/eventi/democrazia-conquista-continua-ric
 ordando-don-giovanni-barbareschi
SUMMARY:Democrazia\, conquista continua. Ricordando don Giovanni Barbaresch
 i
DESCRIPTION:In occasione della ricorrenza del 25 aprile\, un incontro spec
 iale invita la comunità a riflettere sul valore della libertà e sull’a
 ttualità dell’impegno di don Giovanni Barbareschi\, figura significati
 va della Resistenza e testimone di fede e coraggio civile.\n\nL’evento\,
  dal titolo “Democrazia\, conquista continua”\, si terrà venerdì 2
 4 aprile\, dalle ore 20.45 alle 22.15\, presso l’Oratorio di via Pavoni 
 10 a Milano. L’iniziativa rappresenta un’occasione per riscoprire\, at
 traverso testimonianze e racconti\, il significato profondo della libertà
  e della responsabilità civica\, valori che continuano a interrogare il p
 resente.\n\nDurante la serata interverranno Giacomo Perego\, ricercatore 
 e soggettista\, che presenterà il docufilm Siate liberi! Vita e resisten
 za di don Giovanni Barbareschi\, e Simone Pizzi\, regista\, che illustrer
 à il documentario Storie di ribelli per amore\, realizzato dalla Fondazi
 one Ambrosianeum\, con testimonianze di rischi e solidarietà per la conqu
 ista della libertà.\n\nA moderare l’incontro sarà Paolo Danuvola.\n\n
 L’ingresso è libero fino a esaurimento dei posti disponibili\; è consi
 gliata l’iscrizione tramite email all’indirizzo: oratoriopavoni@sangio
 vannievangelista.org.
ATTACH;FMTTYPE=image/jpeg:https://www.chiesadimilano.it/wp-content/uploads
 /sites/83/2026/04/don-giovanni-barbareschi.jpg
LOCATION:Oratorio\, Via Pavoni 10\, Milano\, Lombardia\, 20159\, Milano\, I
 talia
GEO:45.50143;9.186601
X-APPLE-STRUCTURED-LOCATION;VALUE=URI;X-ADDRESS=Via Pavoni 10\, Milano\, Lo
 mbardia\, 20159\, Milano\, Italia;X-APPLE-RADIUS=100;X-TITLE=Oratorio:geo:
 45.50143,9.186601
END:VEVENT
BEGIN:VTIMEZONE
TZID:Europe/Rome
X-LIC-LOCATION:Europe/Rome
BEGIN:DAYLIGHT
DTSTART:20260329T030000
TZOFFSETFROM:+0100
TZOFFSETTO:+0200
TZNAME:CEST
END:DAYLIGHT
END:VTIMEZONE
END:VCALENDAR