BEGIN:VCALENDAR
VERSION:2.0
PRODID:-//wp-events-plugin.com//6.3//EN
TZID:Europe/Rome
X-WR-TIMEZONE:Europe/Rome
BEGIN:VEVENT
UID:0-2372@chiesadimilano.it
DTSTART;TZID=Europe/Rome;VALUE=DATE:20251214
DTEND;TZID=Europe/Rome;VALUE=DATE:20251215
DTSTAMP:20251209T124028Z
URL:https://www.chiesadimilano.it/eventi/concerto-di-natale-allabbazia-di-
 chiaravalle-3
SUMMARY:Concerto di Natale all’Abbazia di Chiaravalle
DESCRIPTION:Si rinnova\, domenica 14 dicembre 2025 ore 16.00 in via Sant’
 Arialdo 102 Milano\, l’ormai tradizionale concerto di Natale all’abbaz
 ia di Chiaravalle milanese\, ospitato dalla comunità monastica cistercens
 e in un’iniziativa che accoglie il territorio e la comunità in preparaz
 ione all’Avvento.\nRealizzato grazie al contributo del Municipio 5 del C
 omune di Milano e la collaborazione di Fondazione Grana Padano\, main part
 ner dell’evento\, e di MMspa\, il concerto è organizzato da Koinè coop
 erativa sociale Onlus insieme all’Associazione MaMu Cultura Musicale con
  la partecipazione dell’Orchestra Giovanile Milano 5 e dell’Orchestra 
 Sinfonica Carisch.\n\n Sono oltre ottanta i musicisti che si stanno prepa
 rando per l’esecuzione del concerto di Natale in uno dei luoghi più sug
 gestivi del capoluogo lombardo\, la chiesa dell’abbazia di Chiaravalle c
 he da quasi 900 anni veglia su Milano e solo una volta all’anno ospita u
 n concerto aperto a tutti.\n\nLa partecipazione è gratuita\, i posti sono
  limitati e occorre prenotarsi sul sito www.abbaziadichiaravalle.it
ATTACH;FMTTYPE=image/jpeg:https://www.chiesadimilano.it/wp-content/uploads
 /sites/83/2025/12/concerto-natale-2023-chiara.jpg
LOCATION:Abbazia di Chiaravalle\, Via Sant'Arialdo\, 102\, Milano\, Lombard
 ia\, 20139\, Milano\, Italia
GEO:45.41658;9.235986
X-APPLE-STRUCTURED-LOCATION;VALUE=URI;X-ADDRESS=Via Sant'Arialdo\, 102\, Mi
 lano\, Lombardia\, 20139\, Milano\, Italia;X-APPLE-RADIUS=100;X-TITLE=Abba
 zia di Chiaravalle:geo:45.41658,9.235986
END:VEVENT
BEGIN:VTIMEZONE
TZID:Europe/Rome
X-LIC-LOCATION:Europe/Rome
BEGIN:STANDARD
DTSTART:20251026T020000
TZOFFSETFROM:+0200
TZOFFSETTO:+0100
TZNAME:CET
END:STANDARD
END:VTIMEZONE
END:VCALENDAR