BEGIN:VCALENDAR
VERSION:2.0
PRODID:-//wp-events-plugin.com//6.3//EN
TZID:Europe/Rome
X-WR-TIMEZONE:Europe/Rome
BEGIN:VEVENT
UID:0-2363@chiesadimilano.it
DTSTART;TZID=Europe/Rome;VALUE=DATE:20251211
DTEND;TZID=Europe/Rome;VALUE=DATE:20251212
DTSTAMP:20251203T145958Z
URL:https://www.chiesadimilano.it/eventi/circolo-filologico-milanese-la-co
 stituzione-italiana-elaborata-in-versi
SUMMARY:Circolo Filologico Milanese: la Costituzione Italiana elaborata in 
 versi
DESCRIPTION:Giovedì 11 dicembre alle 16\,30 al Circolo Filologico Milanese
  “Lettura della Costituzione della Repubblica Italiana elaborata in vers
 i” a cura del dott. Giacinto Sica\, poeta\, scrittore e giurista.\nLa ci
 ttadinanza è invitata sino ad esaurimento dei posti disponibili.
ATTACH;FMTTYPE=image/jpeg:https://www.chiesadimilano.it/wp-content/uploads
 /sites/83/2025/12/Giacinto-Sica.jpg
LOCATION:Circolo Filologico Milanese\, Via Clerici 10 \, Milano\, Lombardia
 \, 20121\, Milano\, Italia
GEO:45.467255;9.187079
X-APPLE-STRUCTURED-LOCATION;VALUE=URI;X-ADDRESS=Via Clerici 10 \, Milano\, 
 Lombardia\, 20121\, Milano\, Italia;X-APPLE-RADIUS=100;X-TITLE=Circolo Fil
 ologico Milanese:geo:45.467255,9.187079
END:VEVENT
BEGIN:VTIMEZONE
TZID:Europe/Rome
X-LIC-LOCATION:Europe/Rome
BEGIN:STANDARD
DTSTART:20251026T020000
TZOFFSETFROM:+0200
TZOFFSETTO:+0100
TZNAME:CET
END:STANDARD
END:VTIMEZONE
END:VCALENDAR