BEGIN:VCALENDAR
VERSION:2.0
PRODID:-//wp-events-plugin.com//6.3//EN
TZID:Europe/Rome
X-WR-TIMEZONE:Europe/Rome
BEGIN:VEVENT
UID:0-1416@chiesadimilano.it
DTSTART;TZID=Europe/Rome:20241207T000000
DTEND;TZID=Europe/Rome:20241207T000000
DTSTAMP:20241126T135512Z
URL:https://www.chiesadimilano.it/eventi/canzon-di-animai-per-fa-canta-i-b
 agai-a-milano-concerto-a-favore-dellassociazione-palinuro
SUMMARY:«Canzon di animài per fà cantà i bagài»: a Milano concerto a 
 favore dell'associazione “PaLiNUro”
DESCRIPTION:Sabato 7 dicembre alle 15\, al Caboto Teatro Kolbe si svolgerà
  il Concerto prima di Natale "La cassina veggiotina"\, tratto dall'omonimo
  cd.\nTante voci milanesi cantano\, in dialetto meneghino\, le più belle 
 canzoni per bambini che parlano di animali.\nL'iniziativa è organizzata d
 al Circolo Filologico Milanese con il supporto dell'associazione Nonni 2.0
 \nIngresso ad offerta libera fino a esaurimento dei posti.\nLe offerte rac
 colte saranno devolute a favore di PaLiNUro (Associazione Pazienti Liberi 
 dalle neoplasie uroteliali).
ATTACH;FMTTYPE=image/jpeg:https://www.chiesadimilano.it/wp-content/uploads
 /sites/83/2024/11/ic_large_w900h600q100_immagine-per-ticket-min.jpg
LOCATION:Caboto Teatro Kolbe\, Viale Corsica 68\, Milano\, Lombardia\, 2013
 7\, Milano\, Italia
GEO:45.462039;9.232841
X-APPLE-STRUCTURED-LOCATION;VALUE=URI;X-ADDRESS=Viale Corsica 68\, Milano\,
  Lombardia\, 20137\, Milano\, Italia;X-APPLE-RADIUS=100;X-TITLE=Caboto Tea
 tro Kolbe:geo:45.462039,9.232841
END:VEVENT
BEGIN:VTIMEZONE
TZID:Europe/Rome
X-LIC-LOCATION:Europe/Rome
BEGIN:STANDARD
DTSTART:20241027T020000
TZOFFSETFROM:+0200
TZOFFSETTO:+0100
TZNAME:CET
END:STANDARD
END:VTIMEZONE
END:VCALENDAR