BEGIN:VCALENDAR
VERSION:2.0
PRODID:-//wp-events-plugin.com//6.3//EN
TZID:Europe/Rome
X-WR-TIMEZONE:Europe/Rome
BEGIN:VEVENT
UID:0-401@chiesadimilano.it
DTSTART;TZID=Europe/Rome;VALUE=DATE:20231202
DTEND;TZID=Europe/Rome;VALUE=DATE:20231203
DTSTAMP:20231127T134415Z
URL:https://www.chiesadimilano.it/eventi/cammino-di-perfezione-con-le-sore
 lle-del-carmelo-di-legnano-pregare-incessantemente-si-puo
SUMMARY:“Cammino di perfezione” con le sorelle del Carmelo di Legnano: 
 «Pregare incessantemente si può?»
DESCRIPTION:Sabato 2 dicembre alle 17\, nuovo appuntamento al Carmelo di Le
 gnano\, questa volta in compagnia di Suor Edith (Cristina Migliorisi). \nS
 econda tappa di un percorso di rilettura del libro su santa Teresa di Ges
 ù: il “Cammino di perfezione" che offre un grande insegnamento sulla pr
 eghiera che parte dalla sua esperienza \, organizzato dalle suore del Carm
 elo di Legnano.\nIn allegato la locandina con le indicazioni per seguire s
 treaming e in differita gli incontri stessi.
ATTACH;FMTTYPE=image/jpeg:https://www.chiesadimilano.it/wp-content/uploads
 /sites/83/2023/10/image001-e1697637234903.jpg
CATEGORIES:In evidenza
LOCATION:Chiesa Monastero Carmelitane Scalze\, via del Carmelo\, 22 \, Legn
 ano\, Lombardia\, 20025\, Milano\, Italia
GEO:45.60008;8.939349
X-APPLE-STRUCTURED-LOCATION;VALUE=URI;X-ADDRESS=via del Carmelo\, 22 \, Leg
 nano\, Lombardia\, 20025\, Milano\, Italia;X-APPLE-RADIUS=100;X-TITLE=Chie
 sa Monastero Carmelitane Scalze:geo:45.60008,8.939349
END:VEVENT
BEGIN:VTIMEZONE
TZID:Europe/Rome
X-LIC-LOCATION:Europe/Rome
BEGIN:STANDARD
DTSTART:20231029T020000
TZOFFSETFROM:+0200
TZOFFSETTO:+0100
TZNAME:CET
END:STANDARD
END:VTIMEZONE
END:VCALENDAR