BEGIN:VCALENDAR
VERSION:2.0
PRODID:-//wp-events-plugin.com//6.3//EN
TZID:Europe/Rome
X-WR-TIMEZONE:Europe/Rome
BEGIN:VEVENT
UID:0-2382@chiesadimilano.it
DTSTART;TZID=Europe/Rome;VALUE=DATE:20251214
DTEND;TZID=Europe/Rome;VALUE=DATE:20251215
DTSTAMP:20251212T115851Z
URL:https://www.chiesadimilano.it/eventi/beato-angelico-meditazione-musica
 le-sul-mistero-del-natale
SUMMARY:Beato Angelico: Meditazione musicale sul Mistero del Natale
DESCRIPTION:Nell’ambito di Muse-Organ Connecting Arts 2025-2026\, domenic
 a\, 14 ore 18.30\, musica e letteratura per il tempo dell'Avvento e del Na
 tale.\nTesti del Vangelo di Luca\, David Maria Turoldo\, Carlo Maria Marti
 ni\, Dietrich Bohnhoeffer. Antonio Delfino\, organo.\nI testi letterari sc
 elti costituiscono la cornice entro cui la musica organistica condurrà il
  pubblico verso la meditazione circa il Mistero del Natale e della sua cel
 ebrazione in un tempo lacerato e carico di sofferenze\, nel quale è comun
 que possibile intravedere una luce di speranza\, di pace e redenzione.\nCh
 iesa della Trasfigurazione\, V.le S. Gimignano\, 19\, Milano\, ingresso li
 bero.
ATTACH;FMTTYPE=image/jpeg:https://www.chiesadimilano.it/wp-content/uploads
 /sites/83/2025/12/organo.jpg
LOCATION:Fondazione Scuola Beato Angelico\, Viale San Gimignano 19\, Milano
 \, Lombardia\, 20146\, Milano\, Italia
GEO:45.459231;9.135654
X-APPLE-STRUCTURED-LOCATION;VALUE=URI;X-ADDRESS=Viale San Gimignano 19\, Mi
 lano\, Lombardia\, 20146\, Milano\, Italia;X-APPLE-RADIUS=100;X-TITLE=Fond
 azione Scuola Beato Angelico:geo:45.459231,9.135654
END:VEVENT
BEGIN:VTIMEZONE
TZID:Europe/Rome
X-LIC-LOCATION:Europe/Rome
BEGIN:STANDARD
DTSTART:20251026T020000
TZOFFSETFROM:+0200
TZOFFSETTO:+0100
TZNAME:CET
END:STANDARD
END:VTIMEZONE
END:VCALENDAR