BEGIN:VCALENDAR
VERSION:2.0
PRODID:-//wp-events-plugin.com//6.3//EN
TZID:Europe/Rome
X-WR-TIMEZONE:Europe/Rome
BEGIN:VEVENT
UID:0-2673@chiesadimilano.it
DTSTART;TZID=Europe/Rome:20260402T000000
DTEND;TZID=Europe/Rome:20260505T000000
DTSTAMP:20260402T093550Z
URL:https://www.chiesadimilano.it/eventi/ambrosiana-autografi-di-celebrita
 -in-mostra
SUMMARY:Ambrosiana\, autografi di celebrità in mostra
DESCRIPTION:Nelle sale 2 e 3 della Pinacoteca Ambrosiana fino al prossimo 5
  maggio è possibile visitare la mostra «Il fascino degli autografi»\, a
  cura di mons. Francesco Braschi. San Tommaso d'Aquino\, Lucrezia Borgia e
  Pietro Bembo\, Ludovico Ariosto\, Michelangelo\, Galileo Galilei\, Ugo Fo
 scolo\, Napoleone Bonaparte\, Alessandro Manzoni\, Gabriele d'Annunzio\, G
 iuseppe Verdi: sono i nomi di personaggi illustri che si incontrano a scuo
 la\, nelle ore di storia\, di letteratura e di filosofia\, ma che rimangon
 o sempre lontani\, confinati forse nei ricordi un po' impolverati dei gior
 ni di scuola...\nMa dietro i nomi si trovano volti\, vite\, percorsi umani
  intensi ea volte drammatici\, itinerari di conoscenza e di creatività ge
 niale\, abilità artistiche e guerresche\, sottili ragionamenti e irrefren
 abili passioni\, tragedie personali e familiari ed eventi storici che segn
 ano le epoche e cambiano il pensiero... \nLa mostra vuole provare a offrir
 e l'incontro diretto - mediante la scrittura - con questi personaggi attra
 verso dei documenti eccezionali\, che consentono di visualizzare i pensier
 i vergati con la penna d'oca o il calamo o il pennino\, e brevettato poi s
 u pergamena e carta\, corredati di sigilli e firme autografe.\nUn'occasion
 e unica per toccare con mano la ricchezza della Biblioteca Ambrosiana\, ve
 ro «scrigno» della storia universale. \nLa visita è compresa nel biglie
 tto d'ingresso.
ATTACH;FMTTYPE=image/jpeg:https://www.chiesadimilano.it/wp-content/uploads
 /sites/83/2026/04/Ambrosiana-mostra-autografi-980x551-1.jpg
LOCATION:Pinacoteca ambrosiana\, Piazza Pio XI\, Milano\, Lombardia\, 20121
 \, Milano\, Italia
GEO:45.463528;9.186383
X-APPLE-STRUCTURED-LOCATION;VALUE=URI;X-ADDRESS=Piazza Pio XI\, Milano\, Lo
 mbardia\, 20121\, Milano\, Italia;X-APPLE-RADIUS=100;X-TITLE=Pinacoteca am
 brosiana:geo:45.463528,9.186383
END:VEVENT
BEGIN:VTIMEZONE
TZID:Europe/Rome
X-LIC-LOCATION:Europe/Rome
BEGIN:DAYLIGHT
DTSTART:20260329T030000
TZOFFSETFROM:+0100
TZOFFSETTO:+0200
TZNAME:CEST
END:DAYLIGHT
END:VTIMEZONE
END:VCALENDAR