BEGIN:VCALENDAR
VERSION:2.0
PRODID:-//wp-events-plugin.com//6.3//EN
TZID:Europe/Rome
X-WR-TIMEZONE:Europe/Rome
BEGIN:VEVENT
UID:0-2370@chiesadimilano.it
DTSTART;TZID=Europe/Rome;VALUE=DATE:20251215
DTEND;TZID=Europe/Rome;VALUE=DATE:20251216
DTSTAMP:20251209T112536Z
URL:https://www.chiesadimilano.it/eventi/al-cinema-neanche-dio-e-solo-da-p
 -giuseppe-bettoni-a-fondazione-arche
SUMMARY:Al cinema “Neanche Dio è solo”: da padre Giuseppe Bettoni a Fo
 ndazione Arché
DESCRIPTION:Lunedì 15 dicembre 2025\, al Cinema Palestrina di Milano\, sar
 à proiettato in anteprima nazionale il docufilm “Neanche Dio è solo”
 . Nella stessa occasione sarà presentato il nuovo libro di Arché: “Dar
 e casa all’amore ferito”.\nLa Fondazione Arché presenta l’anteprima
  nazionale del docufilm Neanche Dio è solo\, diretto da Luce Maria Franch
 ina e prodotto da Big Eyes International in collaborazione con Artech Digi
 tal Cinema.\nDopo la proiezione\, la regista e i produttori interverranno 
 in sala per un dialogo con il pubblico\, seguito da una breve presentazion
 e del libro Dare casa all’amore ferito. L’esperienza di Arché a cura 
 di Padre Giuseppe Bettoni e Paolo Dell’Oca. L’ingresso è libero previ
 a iscrizione tramite form dedicato: https://bit.ly/neancheDioèsolo.\nIl d
 ocufilm\nNeanche Dio è solo è un’opera di 62 minuti prodotta da Wu Zha
 o Xiang – Big Eyes Vision e Claudia Porilli – Artech Digital Cinema\, 
 in collaborazione con Maggie Foundation\, con musiche originali di Maximil
 ien Zaganelli e regia di Luce Maria Franchina. Protagonista e voce del rac
 conto è padre Giuseppe Bettoni\, fondatore di Arché.\nIl soggetto nasce 
 da un’intuizione del dottor Zhao Xiang Wu\, che dopo aver incontrato pad
 re Bettoni ha voluto dar forma cinematografica alla sua testimonianza di a
 ccoglienza e cura. Quella che doveva essere una semplice intervista si è 
 trasformata in un racconto aperto\, in cui\, spiega Wu: «la storia di pad
 re Giuseppe non poteva non essere narrata\, perché è una storia d’amor
 e». La produttrice Claudia Porilli aggiunge: «Questo film è un messaggi
 o di pace\, che dà voce a chi spesso non ne ha».\nSinossi\nMilano\, anni
  ’80. Nel pieno dell’emergenza AIDS\, il giovane padre Giuseppe Betton
 i sceglie di dedicarsi ai sieropositivi\, sfidando il pregiudizio della Ch
 iesa e della società. Nel 1991 fonda l’Associazione Arché\, che nel te
 mpo si trasforma in Fondazione\, aprendo le porte a madri con bambini\, do
 nne vittime di violenza e migranti. Oggi Arché opera a Milano\, Roma e Sa
 n Benedetto del Tronto con case di accoglienza e progetti educativi.\nNean
 che Dio è solo ricostruisce questa traiettoria di servizio e speranza: tr
 a perdite e rinascite\, dolore e cura\, fede e umanità.\nIl libro\nDurant
 e la serata\, Padre Giuseppe Bettoni e Paolo Dell’Oca presenteranno Dare
  casa all’amore ferito. L’esperienza di Arché (In Dialogo\, 20 euro\,
  240 pagine)\, un volume corale che raccoglie testimonianze di operatori\,
  volontari e famiglie. Un racconto che attraversa fragilità\, resilienza 
 e rinascita\, e che invita a riflettere sulla forza della cura e dell’ac
 coglienza verso chi vive situazioni di grande vulnerabilità.\nGli autori\
 nPadre Giuseppe Bettoni è il fondatore di Fondazione Arché\, cappellano 
 volontario nella sezione femminile della Casa di Reclusione di Milano –
  Bollate e all’ICAM di Milano e autore di Quanto pesa la luna?\, è im
 pegnato dal 1991 nell’accoglienza di bambini e famiglie vulnerabili.\nPa
 olo Dell’Oca\, milanese\, fondatore dell’associazione culturale Le Niu
 s e portavoce di Fondazione Arché\, è impegnato in progetti di cooperazi
 one e comunicazione sociale.
ATTACH;FMTTYPE=image/jpeg:https://www.chiesadimilano.it/wp-content/uploads
 /sites/83/2025/09/vangelo24-1.jpg
END:VEVENT
BEGIN:VTIMEZONE
TZID:Europe/Rome
X-LIC-LOCATION:Europe/Rome
BEGIN:STANDARD
DTSTART:20251026T020000
TZOFFSETFROM:+0200
TZOFFSETTO:+0100
TZNAME:CET
END:STANDARD
END:VTIMEZONE
END:VCALENDAR