BEGIN:VCALENDAR
VERSION:2.0
PRODID:-//wp-events-plugin.com//6.3//EN
TZID:Europe/Rome
X-WR-TIMEZONE:Europe/Rome
BEGIN:VEVENT
UID:0-2715@chiesadimilano.it
DTSTART;TZID=Europe/Rome:20260425T000000
DTEND;TZID=Europe/Rome:20260425T000000
DTSTAMP:20260420T124328Z
URL:https://www.chiesadimilano.it/eventi/a-vedano-al-lambro-incontro-su-pr
 imo-mazzolari-teresio-olivelli-e-carlo-bianchi
SUMMARY:A Vedano al Lambro incontro su Primo Mazzolari\, Teresio Olivelli e
  Carlo Bianchi
DESCRIPTION:Sabato 25 aprile alle 16\, presso la Sala della Cultura a Vedan
 o al Lambro\, il professor Anselmo Palini presenterà i libri su Primo Maz
 zolari e i Ribelli per amore e su Teresio Olivelli e Carlo Bianchi.
ATTACH;FMTTYPE=image/jpeg:https://www.chiesadimilano.it/wp-content/uploads
 /sites/83/2019/04/Carlo-Bianchi-moglie.jpg
LOCATION:Sala della Cultura\, via Italia 15\, Vedano al Lambro\, Lombardia\
 , 20854\, Monza e della Brianza\, Italia
GEO:45.60883;9.274401
X-APPLE-STRUCTURED-LOCATION;VALUE=URI;X-ADDRESS=via Italia 15\, Vedano al L
 ambro\, Lombardia\, 20854\, Monza e della Brianza\, Italia;X-APPLE-RADIUS=
 100;X-TITLE=Sala della Cultura:geo:45.60883,9.274401
END:VEVENT
BEGIN:VTIMEZONE
TZID:Europe/Rome
X-LIC-LOCATION:Europe/Rome
BEGIN:DAYLIGHT
DTSTART:20260329T030000
TZOFFSETFROM:+0100
TZOFFSETTO:+0200
TZNAME:CEST
END:DAYLIGHT
END:VTIMEZONE
END:VCALENDAR