BEGIN:VCALENDAR
VERSION:2.0
PRODID:-//wp-events-plugin.com//6.3//EN
TZID:Europe/Rome
X-WR-TIMEZONE:Europe/Rome
BEGIN:VEVENT
UID:0-2368@chiesadimilano.it
DTSTART;TZID=Europe/Rome;VALUE=DATE:20251210
DTEND;TZID=Europe/Rome;VALUE=DATE:20251211
DTSTAMP:20251209T101348Z
URL:https://www.chiesadimilano.it/eventi/a-usmate-velate-come-lintelligenz
 a-artificiale-sta-cambiando-le-nostre-vite
SUMMARY:A Usmate Velate “Come l'intelligenza artificiale sta cambiando le
  nostre vite”
DESCRIPTION:È uno dei temi più attuali. E\, per le sue caratteristiche e 
 la sua pervasività nella quotidianità\, che sembra destinata a crescere 
 nel futuro\, suscita curiosità ma anche ampi dibattiti. Alla domanda su 
 “Come l'intelligenza artificiale sta cambiando le nostre vite” tenter
 à di rispondere il giornalista del quotidiano Avvenire Gigio Rancilio in 
 un incontro in programma mercoledì 10 dicembre alle 21 all'oratorio di Ve
 late.\nRancilio ha all'attivo diverse pubblicazioni tra cui “Il futuro d
 ell'informazione tra carta\, web e tanto altro” e “Gli influencer catt
 olici: un identikit e un decalogo” ed è attivo non soltanto sul versant
 e giornalistico e della divulgazione ma anche su quello della formazione. 
 Sue alcune riflessioni articolate sull'importanza di saper applicare anche
  al mondo dell'informazione l'intelligenza artificiale avvolgendola nel ma
 nto della responsabilità professionale ed etica.
ATTACH;FMTTYPE=image/jpeg:https://www.chiesadimilano.it/wp-content/uploads
 /sites/83/2025/12/Gigio-Rancilio.jpg
LOCATION:Oratorio di Velate\, Viale della Brina\, Velate\, Lombardia\, 2086
 5\, Monza e della Brianza\, Italia
GEO:45.643871;9.345594
X-APPLE-STRUCTURED-LOCATION;VALUE=URI;X-ADDRESS=Viale della Brina\, Velate\
 , Lombardia\, 20865\, Monza e della Brianza\, Italia;X-APPLE-RADIUS=100;X-
 TITLE=Oratorio di Velate:geo:45.643871,9.345594
END:VEVENT
BEGIN:VTIMEZONE
TZID:Europe/Rome
X-LIC-LOCATION:Europe/Rome
BEGIN:STANDARD
DTSTART:20251026T020000
TZOFFSETFROM:+0200
TZOFFSETTO:+0100
TZNAME:CET
END:STANDARD
END:VTIMEZONE
END:VCALENDAR