BEGIN:VCALENDAR
VERSION:2.0
PRODID:-//wp-events-plugin.com//6.3//EN
TZID:Europe/Rome
X-WR-TIMEZONE:Europe/Rome
BEGIN:VEVENT
UID:0-538@chiesadimilano.it
DTSTART;TZID=Europe/Rome:20240129T000000
DTEND;TZID=Europe/Rome:20240129T000000
DTSTAMP:20240118T103316Z
URL:https://www.chiesadimilano.it/eventi/a-scuola-con-rondine-il-metodo-pe
 r-fare-la-pace
SUMMARY:A scuola con rondine: il metodo per fare la pace
DESCRIPTION:Lunedì 29 gennaio alle 20.45 al Cinema Ariosto per i “Luned
 ì insieme” organizzati dalle tre Comunità parrocchiali di San Francesc
 o d’Assisi al Fopponino\, Santa Maria Segreta e Gesù Buon Pastore e s. 
 Matteo di Milano\, sarà presentata l’esperienza di "Rondine – Cittade
 lla della Pace"\, con particolare attenzione alla conoscenza di questa rea
 ltà per gli insegnanti e i dirigenti scolastici\, e per gli studenti dell
 e scuole superiori (in vista della possibile esperienza del 4° anno).\n\n
 Nella settimana della Giornata della Memoria\, il primo appuntamento vuole
  parlare di un argomento sempre attuale e più che mai urgente: la Pace.\n
 Lo faremo ospitando l’Associazione Rondine Cittadella della Pace\, che\,
  partendo dall’omonimo borgo medievale in provincia di Arezzo\, ha svilu
 ppato e diffuso un vero e proprio modello\, il\n“Metodo Rondine”\, da 
 anni applicato con successo al percorso formativo degli adolescenti che si
  trovano ad affrontare il più importante conflitto della vita: la ricerca
  della propria identità per diventare\nprotagonisti della propria vita.\n
 \nLa proposta racchiude tutta l’esperienza formativa di Rondine: oltre 2
 5 anni di lavoro con i giovani studenti della World House\, provenienti da
  luoghi di guerra e post-bellici\, e più di 6 anni con giovani di ogni re
 gione\nd’Italia che trascorrono il Quarto Anno delle scuole Superiori a 
 Rondine.\nNel triennio che va dalla terza alla quinta classe superiore\, l
 e sezioni Rondine accompagnano docenti e studenti verso un modo nuovo di f
 are scuola e di essere gruppo-classe. Mentre durante il Quarto Anno a\nRon
 dine\, si lavora per sviluppare una consapevolezza critica\, lavorare sull
 a trasformazione del conflitto e rafforzare la crescita emotiva e relazion
 ale dei ragazzi\, al fine di favorire la gestione dei conflitti\, il dialo
 go\ninterculturale e interreligioso.\n\nInterverranno alla serata la prof.
 ssa Paola Butali Vicepresidente di Rondine\, la Prof.ssa Stella Ficai e il
  Prof. Giovanni Rossi.\nNon mancheranno testimonianze dirette di studenti 
 coinvolti nel progetto\nIntroduce il Dottor Alberto Belli Paci\, Manager e
  figlio della Senatrice Liliana Segre.\n\nInfo: lunediinsieme@gmail.com\; 
 Facebook: Lunedi Insieme
ATTACH;FMTTYPE=image/jpeg:https://www.chiesadimilano.it/wp-content/uploads
 /sites/83/2024/01/417474881_18407891770054783_2370429877519400298_n-e17055
 73967916.jpg
LOCATION:Ariosto Spazio Cinema\, Via Lodovico Ariosto\, 16\, Milano\, Lomba
 rdia\, 20145\, Milano\, Italia
GEO:45.469071;9.165996
X-APPLE-STRUCTURED-LOCATION;VALUE=URI;X-ADDRESS=Via Lodovico Ariosto\, 16\,
  Milano\, Lombardia\, 20145\, Milano\, Italia;X-APPLE-RADIUS=100;X-TITLE=A
 riosto Spazio Cinema:geo:45.469071,9.165996
END:VEVENT
BEGIN:VTIMEZONE
TZID:Europe/Rome
X-LIC-LOCATION:Europe/Rome
BEGIN:STANDARD
DTSTART:20231029T020000
TZOFFSETFROM:+0200
TZOFFSETTO:+0100
TZNAME:CET
END:STANDARD
END:VTIMEZONE
END:VCALENDAR