BEGIN:VCALENDAR
VERSION:2.0
PRODID:-//wp-events-plugin.com//6.3//EN
TZID:Europe/Rome
X-WR-TIMEZONE:Europe/Rome
BEGIN:VEVENT
UID:0-2667@chiesadimilano.it
DTSTART;TZID=Europe/Rome:20260429T000000
DTEND;TZID=Europe/Rome:20260429T000000
DTSTAMP:20260417T140041Z
URL:https://www.chiesadimilano.it/eventi/a-oreno-di-vimercate-convegno-e-v
 eglia-per-il-lavoro-con-larcivescovo
SUMMARY:A Oreno di Vimercate Convegno e Veglia per il lavoro con l'Arcivesc
 ovo
DESCRIPTION:Mercoledì 29 aprile dalle ore 20.45 alle ore 22.30\, al TeatrO
 reno di Oreno di Vimercate (Mb) si svolgerà la tradizionale Veglia dioces
 ana per il lavoro presieduta dall'Arcivescovo e organizzata dal Servizio p
 er la Pastorale Sociale e il Lavoro.\nIntroduzione:\nDon Nazario Costante\
 , Responsabile Servizio per la Pastorale Sociale e il Lavoro\n\nInterventi
 :\nDon Walter Magnoni\, Docente di etica sociale presso l’Università Ca
 ttolica del Sacro Cuore\nFrancesco Riccardi\, Vicedirettore di Avvenire\nL
 aura Zanfrini\, Docente di sociologia presso l’Università Cattolica del
  Sacro Cuore\n\nAscolto di alcune testimonianze di lavoratori\nMeditazione
  conclusiva dell’Arcivescovo\n\nIngresso libero\n&nbsp\;
ATTACH;FMTTYPE=image/jpeg:https://www.chiesadimilano.it/wp-content/uploads
 /sites/83/2026/04/lavoro-2.jpg
LOCATION:TeatrOreno\, via Madonna\, Oreno\, Lombardia\, 20871\, Monza e del
 la Brianza\, Italia
GEO:45.617316;9.354064
X-APPLE-STRUCTURED-LOCATION;VALUE=URI;X-ADDRESS=via Madonna\, Oreno\, Lomba
 rdia\, 20871\, Monza e della Brianza\, Italia;X-APPLE-RADIUS=100;X-TITLE=T
 eatrOreno:geo:45.617316,9.354064
END:VEVENT
BEGIN:VTIMEZONE
TZID:Europe/Rome
X-LIC-LOCATION:Europe/Rome
BEGIN:DAYLIGHT
DTSTART:20260329T030000
TZOFFSETFROM:+0100
TZOFFSETTO:+0200
TZNAME:CEST
END:DAYLIGHT
END:VTIMEZONE
END:VCALENDAR