BEGIN:VCALENDAR
VERSION:2.0
PRODID:-//wp-events-plugin.com//6.3//EN
TZID:Europe/Rome
X-WR-TIMEZONE:Europe/Rome
BEGIN:VEVENT
UID:0-2656@chiesadimilano.it
DTSTART;TZID=Europe/Rome:20260328T000000
DTEND;TZID=Europe/Rome:20260328T000000
DTSTAMP:20260325T113743Z
URL:https://www.chiesadimilano.it/eventi/a-opera-lo-spettacolo-teatrale-la
 -notte-dellinnominato
SUMMARY:A Opera lo spettacolo teatrale “La Notte dell'Innominato”
DESCRIPTION:Il Centro culturale San Benedetto di Opera\, in collaborazione 
 con la parrocchia Santi Pietro e Paolo\, organizzano per sabato 28 marzo a
 lle ore 21 nella Sala Polivalente dell'Oratorio di via Dante lo spettacolo
  teatrale "La Notte dell'Innominato"\, tratto dal capolavoro di Alessandro
  Manzoni.\n«Attraverso la figura dell'Innominato e di Lucia - spiegano gl
 i organizzatori - assisteremo a un intenso percorso di cambiamento interio
 re. Una storia che parla al cuore di ciascuno e ci ricorda la forza della 
 misericordia e della conversione».\nL'ingresso è libero.
ATTACH;FMTTYPE=image/jpeg:https://www.chiesadimilano.it/wp-content/uploads
 /sites/83/2026/03/1754810.jpg
LOCATION:Parrocchia Santi Pietro e Paolo\, Via Dante 25\, Opera\, Lombardia
 \, 20073\, Milano\, Italia
GEO:45.37739;9.210171
X-APPLE-STRUCTURED-LOCATION;VALUE=URI;X-ADDRESS=Via Dante 25\, Opera\, Lomb
 ardia\, 20073\, Milano\, Italia;X-APPLE-RADIUS=100;X-TITLE=Parrocchia Sant
 i Pietro e Paolo:geo:45.37739,9.210171
END:VEVENT
BEGIN:VTIMEZONE
TZID:Europe/Rome
X-LIC-LOCATION:Europe/Rome
BEGIN:STANDARD
DTSTART:20251026T020000
TZOFFSETFROM:+0200
TZOFFSETTO:+0100
TZNAME:CET
END:STANDARD
END:VTIMEZONE
END:VCALENDAR