BEGIN:VCALENDAR
VERSION:2.0
PRODID:-//wp-events-plugin.com//6.3//EN
TZID:Europe/Rome
X-WR-TIMEZONE:Europe/Rome
BEGIN:VEVENT
UID:0-1317@chiesadimilano.it
DTSTART;TZID=Europe/Rome;VALUE=DATE:20241124
DTEND;TZID=Europe/Rome;VALUE=DATE:20241125
DTSTAMP:20241105T144159Z
URL:https://www.chiesadimilano.it/eventi/a-milano-dal-24-novembre-al-15-di
 cembre-cassoeula-mercatini-piante-natalizie-arte-e-cultura-per-tenere-viva
 -la-chiesina-rossa
SUMMARY:A Milano\, dal 24 novembre al 15 dicembre cassoeula e mercatini per
  tenere viva la «Chiesina rossa»
DESCRIPTION:Come ogni anno in attesa del Santo Natale\, tornano gli appunta
 menti culturali\, divertenti e gastronomici organizzati da Frati di Santa 
 Maria alla Fonte\, “la Chiesina Rossa”. \nSi tratta di iniziative a pa
 rtecipazione libera per raccogliere offerte da devolvere alle opere di con
 servazione dell’antico luogo di culto situato lungo il Naviglio Pavese\,
  in via Chiesa Rossa 55.\n\nSorto sopra le fondamenta di un sacello paleoc
 ristiano\, l’edificio risale al periodo neoromanico del X secolo. Dopo i
 l recupero dall’abbandono\, avviato dal 1988 dal Comitato di cittadini v
 olontari Chiesa Rossa\, attualmente è meta di devozione mariana in partic
 olare per la presenza di un affresco\, del 1400\, che riproduce la miracol
 osa Madonna del latte.\nGli eventi dell’Avvento daranno modo anche di sc
 oprire/riscoprire l’ampio complesso in cui è inserita la Chiesina rossa
 \, immersa nel verde del parco omonimo\, circondata da due antichi cascina
 li e altri ‘ruderi’ ora ristrutturati e adibiti a moderna e frequentat
 issima biblioteca civica\, multimediale e polifunzionale\, e bar affacciat
 o su un ampio gradevole portico aperto. Un luogo di serenità per il tempo
  libero e lo studio di tutta la famiglia e tutte le età.\n\nEventi dell
 ’Avvento:\n\nDomenica 24 novembre: alle ore 12\, Casseoula per tutti da 
 asporto o con servizio al tavolo (offerta a partire da €20).\nPer prenot
 are: Fra Mauro mob 3336810133 – fra.mauro@missioni.org\n(ingresso dal ca
 ncello del parco)\nDa sabato 30 novembre a domenica 15 dicembre: tradizion
 ale mercatino solidale ‘Curiosando’ con esposizione e vendita di prese
 pi artigianali\, idee regalo\, marmellate dai conventi\, miele\, salumi e 
 formaggi dall’Umbria e da piccole aziende a km 0. Nel salone adiacente i
 l parco. Orari da martedì a venerdì dalle 16.00-18.00\, sabato dalle 10 
 alle 12.30 e dalle 15.30 alle 19.30\, domenica dalle 10 alle 13 e dalle 15
 .30 alle 19.30.\nSi può contribuire allo scopo solidale anche donando ogg
 etti o prodotti da inserire nel mercatino (eccetto abiti usati e scarpe\, 
 si possono portare alla Chiesa da martedì 26 novembre previo appuntamento
  con Fra Mauro\, mob. 3356810133- fra.mauro@missioni.org).\nDomenica 8 dic
 embre:\nalle ore 15.00 visita guidata a Santa Maria alla Fonte con la pres
 idente del Comitato Chiesa Rossa prof.ssa Enrica Garlati.\nSabato 14 - dom
 enica 15 dicembre: \nvendita delle tipiche piante delle feste\, le Stelle 
 di Natale - davanti alla Chiesa.
ATTACH;FMTTYPE=image/jpeg:https://www.chiesadimilano.it/wp-content/uploads
 /sites/83/2024/11/chiesa-santa-maria-alla-fonte-milano-392-3.jpg
LOCATION:Santa Maria alla Fonte\, via Chiesa Rossa 55\, Milano\, Lombardia\
 , 20142\, Milano\, Italia
GEO:45.431291;9.17284
X-APPLE-STRUCTURED-LOCATION;VALUE=URI;X-ADDRESS=via Chiesa Rossa 55\, Milan
 o\, Lombardia\, 20142\, Milano\, Italia;X-APPLE-RADIUS=100;X-TITLE=Santa M
 aria alla Fonte:geo:45.431291,9.17284
END:VEVENT
BEGIN:VTIMEZONE
TZID:Europe/Rome
X-LIC-LOCATION:Europe/Rome
BEGIN:STANDARD
DTSTART:20241027T020000
TZOFFSETFROM:+0200
TZOFFSETTO:+0100
TZNAME:CET
END:STANDARD
END:VTIMEZONE
END:VCALENDAR