BEGIN:VCALENDAR
VERSION:2.0
PRODID:-//wp-events-plugin.com//6.3//EN
TZID:Europe/Rome
X-WR-TIMEZONE:Europe/Rome
BEGIN:VEVENT
UID:0-1114@chiesadimilano.it
DTSTART;TZID=Europe/Rome:20240915T000000
DTEND;TZID=Europe/Rome:20240915T000000
DTSTAMP:20240906T140756Z
URL:https://www.chiesadimilano.it/eventi/a-maccagno-una-mostra-sui-miracol
 i-eucaristici-del-beato-carlo-acutis
SUMMARY:A Maccagno una mostra sui Miracoli Eucaristici del beato Carlo Acut
 is
DESCRIPTION:Domenica 15 settembre alle 17 presso il Punto di Incontro di Ma
 ccagno con Pino e Veddasca (Va) verrà inaugurata la mostra "I miracoli eu
 caristici nel mondo" realizzata in collaborazione con la parrocchia e dedi
 cata al Beato Carlo Acutis\, che prossimamente verrà dichiarato santo da 
 Papa Francesco durante il Giubileo dei giovani.\n\nLa mostra sarà aperta 
 dal 15 al 29 settembre 2024 presso il Punto di incontro\, Via Valsecchi 21
  Maccagno con Pino e Veddasca.\nOrari di apertura dal lunedì al venerdì 
 : ore 18\,00 - 19\,00\nsabato e domenica: ore 10\,00 - 12\,00 e 15\,00 - 1
 8\,30\n\nCi sarà la possibilità di organizzare visite guidate per gruppi
  telefonando ai seguenti numeri di telefono: 329/4227764 - 347/0338746.\n\
 nLa mostra internazionale presenta alcuni dei principali miracoli eucarist
 ici (136 riconosciuti dalla Chiesa) verificatesi nel corso dei secoli in d
 iversi paesi del mondo\, è dotata di un’ampia rassegna fotografica e di
  accurate descrizioni storiche.\n\nLa mostra è già stata presentata in 5
  continenti e in 10.000 parrocchie\, compresi alcuni santuari mariani: Fat
 ima\, Lourdes\, Guadalupe.\nA Maccagno saranno presentati 20 pannelli dei 
 principali miracoli eucaristici.\n\nAlla presentazione interverranno\, con
  le loro testimonianze\, alcune persone che hanno conosciuto con modalità
  differenti il Beato Carlo Acutis. In particolare sarà presente Camilla M
 arzetti\, studentessa dell'Università Cattolica Milano\, e attraverso un 
 video le suore Romite Ambrosiane del Monastero della Bernaga (Lc).\nIl Bea
 to Carlo Acutis (scomparso nel 2006 a soli 15 anni) ha lasciato a tutto il
  mondo questa documentazione dei miracoli eucaristici perché chiunque pot
 esse conoscere Colui che lui stesso aveva incontrato e che gli aveva cambi
 ato la vita: Gesù.\n\nUn seme piantato da un ragazzo\, che continua a ger
 mogliare in ogni angolo della Terra.\nE' una potente testimonianza che non
  lascia indifferenti coloro che visitano la mostra e che spalanca la porta
  alla conoscenza del suo giovanissimo ideatore.\n\nLa mostra è stata alle
 stita dalla casa editrice Shalom ed esposta presso il Punto di incontro di
  Maccagno in collaborazione con la Parrocchia di Maccagno\, la Pro loco di
  Maccagno\, il Centro Culturale San Carlo Borromeo e con il patrocino del 
 Comune di Maccagno.
ATTACH;FMTTYPE=image/jpeg:https://www.chiesadimilano.it/wp-content/uploads
 /sites/83/2020/02/Carlo-Acutis.jpg
LOCATION:Punto di Incontro\, Via Valsecchi 21\, Maccagno Superiore\, Lombar
 dia\, 21061\, Varese\, Italia
GEO:46.042592;8.737157
X-APPLE-STRUCTURED-LOCATION;VALUE=URI;X-ADDRESS=Via Valsecchi 21\, Maccagno
  Superiore\, Lombardia\, 21061\, Varese\, Italia;X-APPLE-RADIUS=100;X-TITL
 E=Punto di Incontro:geo:46.042592,8.737157
END:VEVENT
BEGIN:VTIMEZONE
TZID:Europe/Rome
X-LIC-LOCATION:Europe/Rome
BEGIN:DAYLIGHT
DTSTART:20240331T030000
TZOFFSETFROM:+0100
TZOFFSETTO:+0200
TZNAME:CEST
END:DAYLIGHT
END:VTIMEZONE
END:VCALENDAR