BEGIN:VCALENDAR
VERSION:2.0
PRODID:-//wp-events-plugin.com//6.3//EN
TZID:Europe/Rome
X-WR-TIMEZONE:Europe/Rome
BEGIN:VEVENT
UID:0-1084@chiesadimilano.it
DTSTART;TZID=Europe/Rome;VALUE=DATE:20240822
DTEND;TZID=Europe/Rome;VALUE=DATE:20240823
DTSTAMP:20240825T193952Z
URL:https://www.chiesadimilano.it/eventi/a-lurago-marinone-presentazione-d
 el-libro-su-padre-angelo-berlusconi-missionario-in-india
SUMMARY:A Lurago Marinone presentazione del libro su padre Angelo Berluscon
 i\, missionario in India
DESCRIPTION:Giovedì 22 agosto\, alle ore 21:15 presso la sala consiliare d
 el Municipio (via Castello\, 2 a Lurago Marinone) sarà presentato il libr
 o dedicato al compaesano sacerdote\, missionario in India.\nPagine di vita
  del nostro caro concittadino. In villaggi sperduti dell’India del 1900\
 , condividendo povertà e sofferenze della gente\, padre Angelo ha portato
  l’annuncio del Vangelo\, accompagnandolo con le innate doti artistiche.
 \nInterverranno alla serata don Giorgio Basilio e don Umberto Dell’Orto.
 \nLa serata culturale sarà preceduta\, alle ore 20:30 dalla S. Messa di a
 pertura della Festa di San Valentino presieduta da don Giorgio Basilio.\nI
 l libro sarà disponibile all’acquisto la sera della presentazione e a s
 eguire presso la Creatività durante i giorni della sagra.
ATTACH;FMTTYPE=image/jpeg:https://www.chiesadimilano.it/wp-content/uploads
 /sites/83/2024/08/Screenshot-2024-08-12-alle-19.07.05.png
END:VEVENT
BEGIN:VTIMEZONE
TZID:Europe/Rome
X-LIC-LOCATION:Europe/Rome
BEGIN:DAYLIGHT
DTSTART:20240331T030000
TZOFFSETFROM:+0100
TZOFFSETTO:+0200
TZNAME:CEST
END:DAYLIGHT
END:VTIMEZONE
END:VCALENDAR