BEGIN:VCALENDAR
VERSION:2.0
PRODID:-//wp-events-plugin.com//6.3//EN
TZID:Europe/Rome
X-WR-TIMEZONE:Europe/Rome
BEGIN:VEVENT
UID:0-2517@chiesadimilano.it
DTSTART;TZID=Europe/Rome:20260222T000000
DTEND;TZID=Europe/Rome:20260222T000000
DTSTAMP:20260212T102404Z
URL:https://www.chiesadimilano.it/eventi/a-limbiate-il-cardinale-parolin-p
 er-ricordare-luca-attanasio-a-cinque-anni-dalla-scomparsa
SUMMARY:A Limbiate il cardinale Parolin per ricordare Luca Attanasio a cinq
 ue anni dalla scomparsa
DESCRIPTION:In occasione del V anniversario della morte dell’Ambasciatore
  Luca Attanasio (2021-2026)\, la Comunità pastorale Regina della Pace di 
 Limbiate avrà l’onore di ospitare  Sua Em.za Cardinal Pietro Parolin\,
  Segretario di Stato Vaticano\, che domenica 22 febbraio presiederà alle 
 ore 11.30 la Santa Messa nella chiesa San Giorgio in Limbiate e rivolgerà
  un suo saluto alla città in occasione di questo importante anniversario.
 \nDurante la Celebrazione Eucaristica il parroco don Massimo Donghi rivolg
 erà un saluto e un ringraziamento a nome di tutti a Sua Eminenza (non son
 o previsti altri interventi). Al termine della celebrazione sarà possibil
 e fare una foto con il Segretario di Stato Vaticano.
ATTACH;FMTTYPE=image/jpeg:https://www.chiesadimilano.it/wp-content/uploads
 /sites/83/2021/06/MilImg_193_85104_172416_20210611081119_2.jpg
LOCATION:Chiesa San Giorgio\, P.za Monsignor Redaelli\, Limbiate\, Lombardi
 a\, Monza Brianza\, Italia
GEO:45.60016;9.12833
X-APPLE-STRUCTURED-LOCATION;VALUE=URI;X-ADDRESS=P.za Monsignor Redaelli\, L
 imbiate\, Lombardia\, Monza Brianza\, Italia;X-APPLE-RADIUS=100;X-TITLE=Ch
 iesa San Giorgio:geo:45.60016,9.12833
END:VEVENT
BEGIN:VTIMEZONE
TZID:Europe/Rome
X-LIC-LOCATION:Europe/Rome
BEGIN:STANDARD
DTSTART:20251026T020000
TZOFFSETFROM:+0200
TZOFFSETTO:+0100
TZNAME:CET
END:STANDARD
END:VTIMEZONE
END:VCALENDAR