BEGIN:VCALENDAR
VERSION:2.0
PRODID:-//wp-events-plugin.com//6.3//EN
TZID:Europe/Rome
X-WR-TIMEZONE:Europe/Rome
BEGIN:VEVENT
UID:0-1611@chiesadimilano.it
DTSTART;TZID=Europe/Rome;VALUE=DATE:20250209
DTEND;TZID=Europe/Rome;VALUE=DATE:20250210
DTSTAMP:20250129T091731Z
URL:https://www.chiesadimilano.it/eventi/a-bulgarograsso-la-festa-patronal
 e-di-santagata
SUMMARY:A Bulgarograsso la Festa patronale di Sant'Agata
DESCRIPTION:La comunità di Bulgarograsso si prepara a celebrare la tradizi
 onale Festa Patronale di Sant'Agata\, un evento atteso ogni anno che unisc
 e fede\, cultura e tradizione.\nLe celebrazioni si terranno dal 2 al 9 feb
 braio e prevedono un ricco programma di attività religiose\, culturali e 
 ricreative.\nLa festa prenderà il via domenica 2 febbraio con la S. Messa
  solenne nella Festa della Presentazione del Signore al tempio detta anche
  “Candelora”: alle ore 10:30 verranno benedette le candele e si terrà
  la processione che culminerà con la celebrazione eucaristica. Da qui il 
 nome Candelora\, che trova conferma anche nelle parole con le quali Simeon
 e accoglie Gesù nel Tempio: Cristo è «luce per illuminare le genti».\n
 \nSi continuerà lunedì 3 febbraio con la S. Messa alle ore 9:00 nella me
 moria di San Biagio mentre\, alla sera alle ore 21:00 presso l’oratorio 
 G. Buratti di Bulgarograsso\, una testimonianza di fede con Beatrice Fazi\
 , attrice di teatro e televisione\, nota al grande pubblico per il ruolo d
 i Melina nella celebre serie televisiva Un medico in famiglia e attuale co
 nduttrice del programma Quel che bolle in pentola su TV2000. Beatrice Fazi
  condividerà con noi la sua intensa esperienza di conversione: un percors
 o di rinascita spirituale attraverso il quale ha riscoperto la presenza di
  Dio e il valore autentico della vita come dono per gli altri.\n\nMartedì
  4 febbraio la celebrazione eucaristica delle ore 9:00 in chiesa parrocchi
 ale.\n\nMercoledì 5 febbraio alle ore 20:30 la comunità parrocchiale si 
 riunirà per la celebrazione solenne della S. Messa nella memoria di Sant
 ’Agata.\n\nInfine\, domenica 9 febbraio\, alle ore 10:30 la S. Messa sol
 enne\, presieduta da don Simone Lucca vicerettore del Centro Pastorale Amb
 rosiano di Seveso e cappellano del Conservatorio G. Verdi di Milano in cui
  saranno presenti anche le coppie che in questo anno 2025 ricordano un sig
 nificativo anniversario di matrimonio.\nAlle ore 12:15 in oratorio è prop
 osto il consueto pranzo comunitario mentre\, per tutta la giornata a cura 
 della Pro Loco\, un ricco programma di eventi culturali.
ATTACH;FMTTYPE=image/jpeg:https://www.chiesadimilano.it/wp-content/uploads
 /sites/83/2025/01/IMG_1771-scaled-e1738070704685.jpg
LOCATION:Parrocchia Sant'Agata\, Piazza Risorgimento\, 1\, Bulgarograsso\, 
 Lombardia\, 22075\, Como\, Italia
GEO:45.749424;9.009982
X-APPLE-STRUCTURED-LOCATION;VALUE=URI;X-ADDRESS=Piazza Risorgimento\, 1\, B
 ulgarograsso\, Lombardia\, 22075\, Como\, Italia;X-APPLE-RADIUS=100;X-TITL
 E=Parrocchia Sant'Agata:geo:45.749424,9.009982
END:VEVENT
BEGIN:VTIMEZONE
TZID:Europe/Rome
X-LIC-LOCATION:Europe/Rome
BEGIN:STANDARD
DTSTART:20241027T020000
TZOFFSETFROM:+0200
TZOFFSETTO:+0100
TZNAME:CET
END:STANDARD
END:VTIMEZONE
END:VCALENDAR