BEGIN:VCALENDAR
VERSION:2.0
PRODID:-//wp-events-plugin.com//6.3//EN
TZID:Europe/Rome
X-WR-TIMEZONE:Europe/Rome
BEGIN:VEVENT
UID:0-2369@chiesadimilano.it
DTSTART;TZID=Europe/Rome;VALUE=DATE:20251212
DTEND;TZID=Europe/Rome;VALUE=DATE:20251213
DTSTAMP:20251209T110753Z
URL:https://www.chiesadimilano.it/eventi/a-barzago-giuseppe-il-misericordi
 oso
SUMMARY:A Barzago “Giuseppe il misericordioso”
DESCRIPTION:A  Barzago era già stato tempo fa per fornire una testimonian
 za di vita cristiana. L’attore Pietro Sarubbi si appresta adesso a farvi
  ritorno per proporre\, venerdì 12 dicembre alle 21 in chiesa parrocchial
 e uno spettacolo intitolato “Giuseppe il misericordioso” incentrato ap
 punto sulla figura di San Giuseppe.\n\nGià nel cast del film “The passi
 on” con Mel Gibson in cui ha interpretato il ruolo di Barabba\, Sarubbi 
 porta in questa sua proposta l’esplorazione a fondo della figura umana d
 i Giuseppe nella sua posizione di condividere un figlio con quel Dio verso
  il quale porta grandissimo rispetto. Di Giuseppe\, Sarubbi porta in scena
  il grande respiro umano nel vivere gli eventi di cui è stato protagonist
 a e la profonda accettazione del vivere accanto alla Vergine Maria per imm
 ergersi consapevolmente e con tutto se stesso nella dimensione dell’amor
 e di Dio.\nCristiano Comelli
ATTACH;FMTTYPE=image/jpeg:https://www.chiesadimilano.it/wp-content/uploads
 /sites/83/2025/12/Pietro-Sarubbi.jpg
LOCATION:Parrocchia di San Bartolomeo\,  Via Roma\, 2\, Barzago\, Lombardia
 \, 23890\, Lecco\, Italia
GEO:45.756728;9.312692
X-APPLE-STRUCTURED-LOCATION;VALUE=URI;X-ADDRESS= Via Roma\, 2\, Barzago\, L
 ombardia\, 23890\, Lecco\, Italia;X-APPLE-RADIUS=100;X-TITLE=Parrocchia di
  San Bartolomeo:geo:45.756728,9.312692
END:VEVENT
BEGIN:VTIMEZONE
TZID:Europe/Rome
X-LIC-LOCATION:Europe/Rome
BEGIN:STANDARD
DTSTART:20251026T020000
TZOFFSETFROM:+0200
TZOFFSETTO:+0100
TZNAME:CET
END:STANDARD
END:VTIMEZONE
END:VCALENDAR